BEGIN:VCALENDAR
VERSION:2.0
PRODID:-//Svenska Hundklubben - Södertälje - ECPv6.15.13//NONSGML v1.0//EN
CALSCALE:GREGORIAN
METHOD:PUBLISH
X-WR-CALNAME:Svenska Hundklubben - Södertälje
X-ORIGINAL-URL:https://svenskahundklubben.se/sodertalje
X-WR-CALDESC:Händelser för Svenska Hundklubben - Södertälje
REFRESH-INTERVAL;VALUE=DURATION:PT1H
X-Robots-Tag:noindex
X-PUBLISHED-TTL:PT1H
BEGIN:VTIMEZONE
TZID:Europe/Stockholm
BEGIN:DAYLIGHT
TZOFFSETFROM:+0100
TZOFFSETTO:+0200
TZNAME:CEST
DTSTART:20250330T010000
END:DAYLIGHT
BEGIN:STANDARD
TZOFFSETFROM:+0200
TZOFFSETTO:+0100
TZNAME:CET
DTSTART:20251026T010000
END:STANDARD
BEGIN:DAYLIGHT
TZOFFSETFROM:+0100
TZOFFSETTO:+0200
TZNAME:CEST
DTSTART:20260329T010000
END:DAYLIGHT
BEGIN:STANDARD
TZOFFSETFROM:+0200
TZOFFSETTO:+0100
TZNAME:CET
DTSTART:20261025T010000
END:STANDARD
BEGIN:DAYLIGHT
TZOFFSETFROM:+0100
TZOFFSETTO:+0200
TZNAME:CEST
DTSTART:20270328T010000
END:DAYLIGHT
BEGIN:STANDARD
TZOFFSETFROM:+0200
TZOFFSETTO:+0100
TZNAME:CET
DTSTART:20271031T010000
END:STANDARD
END:VTIMEZONE
BEGIN:VEVENT
DTSTART;TZID=Europe/Stockholm:20260422T180000
DTEND;TZID=Europe/Stockholm:20260422T200000
DTSTAMP:20260422T140605
CREATED:20260124T140927Z
LAST-MODIFIED:20260124T140927Z
UID:11019-1776880800-1776888000@svenskahundklubben.se
SUMMARY:Unghundskurs
DESCRIPTION:
URL:https://svenskahundklubben.se/sodertalje/event/unghundskurs-10/
LOCATION:Bastmora och område
END:VEVENT
BEGIN:VEVENT
DTSTART;TZID=Europe/Stockholm:20260422T180000
DTEND;TZID=Europe/Stockholm:20260422T210000
DTSTAMP:20260422T140605
CREATED:20260125T105849Z
LAST-MODIFIED:20260125T105849Z
UID:11140-1776880800-1776891600@svenskahundklubben.se
SUMMARY:Personsök grund
DESCRIPTION:
URL:https://svenskahundklubben.se/sodertalje/event/personsok-grund-9/
LOCATION:Bastmora och område
END:VEVENT
END:VCALENDAR