BEGIN:VCALENDAR
VERSION:2.0
PRODID:-//Svenska Hundklubbens Riksorganisation - ECPv6.15.13//NONSGML v1.0//EN
CALSCALE:GREGORIAN
METHOD:PUBLISH
X-WR-CALNAME:Svenska Hundklubbens Riksorganisation
X-ORIGINAL-URL:https://svenskahundklubben.se
X-WR-CALDESC:Händelser för Svenska Hundklubbens Riksorganisation
REFRESH-INTERVAL;VALUE=DURATION:PT1H
X-Robots-Tag:noindex
X-PUBLISHED-TTL:PT1H
BEGIN:VTIMEZONE
TZID:Europe/Stockholm
BEGIN:DAYLIGHT
TZOFFSETFROM:+0100
TZOFFSETTO:+0200
TZNAME:CEST
DTSTART:20190331T010000
END:DAYLIGHT
BEGIN:STANDARD
TZOFFSETFROM:+0200
TZOFFSETTO:+0100
TZNAME:CET
DTSTART:20191027T010000
END:STANDARD
BEGIN:DAYLIGHT
TZOFFSETFROM:+0100
TZOFFSETTO:+0200
TZNAME:CEST
DTSTART:20200329T010000
END:DAYLIGHT
BEGIN:STANDARD
TZOFFSETFROM:+0200
TZOFFSETTO:+0100
TZNAME:CET
DTSTART:20201025T010000
END:STANDARD
BEGIN:DAYLIGHT
TZOFFSETFROM:+0100
TZOFFSETTO:+0200
TZNAME:CEST
DTSTART:20210328T010000
END:DAYLIGHT
BEGIN:STANDARD
TZOFFSETFROM:+0200
TZOFFSETTO:+0100
TZNAME:CET
DTSTART:20211031T010000
END:STANDARD
END:VTIMEZONE
BEGIN:VEVENT
DTSTART;VALUE=DATE:20201011
DTEND;VALUE=DATE:20201012
DTSTAMP:20260422T114302
CREATED:20200108T170740Z
LAST-MODIFIED:20200820T054846Z
UID:2984-1602374400-1602460799@svenskahundklubben.se
SUMMARY:Lydnadstävling Södertälje 11 Oktober
DESCRIPTION:Anmälan
URL:https://svenskahundklubben.se/event/lydnadstavling-sodertalje-11-oktober/
LOCATION:Bastmora\, Bastmoravägen\, Södertälje\, Sverige
CATEGORIES:Lydnadstävling
ORGANIZER;CN="CLK":MAILTO:ctk@svenskahundklubben.se
END:VEVENT
END:VCALENDAR