BEGIN:VCALENDAR
VERSION:2.0
PRODID:-//Svenska Hundklubbens Riksorganisation - ECPv6.15.13//NONSGML v1.0//EN
CALSCALE:GREGORIAN
METHOD:PUBLISH
X-WR-CALNAME:Svenska Hundklubbens Riksorganisation
X-ORIGINAL-URL:https://svenskahundklubben.se
X-WR-CALDESC:Händelser för Svenska Hundklubbens Riksorganisation
REFRESH-INTERVAL;VALUE=DURATION:PT1H
X-Robots-Tag:noindex
X-PUBLISHED-TTL:PT1H
BEGIN:VTIMEZONE
TZID:Europe/Stockholm
BEGIN:DAYLIGHT
TZOFFSETFROM:+0100
TZOFFSETTO:+0200
TZNAME:CEST
DTSTART:20220327T010000
END:DAYLIGHT
BEGIN:STANDARD
TZOFFSETFROM:+0200
TZOFFSETTO:+0100
TZNAME:CET
DTSTART:20221030T010000
END:STANDARD
BEGIN:DAYLIGHT
TZOFFSETFROM:+0100
TZOFFSETTO:+0200
TZNAME:CEST
DTSTART:20230326T010000
END:DAYLIGHT
BEGIN:STANDARD
TZOFFSETFROM:+0200
TZOFFSETTO:+0100
TZNAME:CET
DTSTART:20231029T010000
END:STANDARD
BEGIN:DAYLIGHT
TZOFFSETFROM:+0100
TZOFFSETTO:+0200
TZNAME:CEST
DTSTART:20240331T010000
END:DAYLIGHT
BEGIN:STANDARD
TZOFFSETFROM:+0200
TZOFFSETTO:+0100
TZNAME:CET
DTSTART:20241027T010000
END:STANDARD
END:VTIMEZONE
BEGIN:VEVENT
DTSTART;VALUE=DATE:20230916
DTEND;VALUE=DATE:20230917
DTSTAMP:20260422T171858
CREATED:20230130T202713Z
LAST-MODIFIED:20230130T202713Z
UID:4781-1694822400-1694908799@svenskahundklubben.se
SUMMARY:Hundtest - Eskilstuna-Torshälla
DESCRIPTION:Till anmälan >>
URL:https://svenskahundklubben.se/event/hundtest-eskilstuna-torshalla-13/
LOCATION:Eskilstuna-Torshälla\, Birka\, Torshälla\, 644 36\, Sverige
CATEGORIES:Hundtest
END:VEVENT
END:VCALENDAR