BEGIN:VCALENDAR
VERSION:2.0
PRODID:-//Svenska Hundklubbens Riksorganisation - ECPv6.15.13//NONSGML v1.0//EN
CALSCALE:GREGORIAN
METHOD:PUBLISH
X-WR-CALNAME:Svenska Hundklubbens Riksorganisation
X-ORIGINAL-URL:https://svenskahundklubben.se
X-WR-CALDESC:Händelser för Svenska Hundklubbens Riksorganisation
REFRESH-INTERVAL;VALUE=DURATION:PT1H
X-Robots-Tag:noindex
X-PUBLISHED-TTL:PT1H
BEGIN:VTIMEZONE
TZID:Europe/Stockholm
BEGIN:DAYLIGHT
TZOFFSETFROM:+0100
TZOFFSETTO:+0200
TZNAME:CEST
DTSTART:20180325T010000
END:DAYLIGHT
BEGIN:STANDARD
TZOFFSETFROM:+0200
TZOFFSETTO:+0100
TZNAME:CET
DTSTART:20181028T010000
END:STANDARD
BEGIN:DAYLIGHT
TZOFFSETFROM:+0100
TZOFFSETTO:+0200
TZNAME:CEST
DTSTART:20190331T010000
END:DAYLIGHT
BEGIN:STANDARD
TZOFFSETFROM:+0200
TZOFFSETTO:+0100
TZNAME:CET
DTSTART:20191027T010000
END:STANDARD
BEGIN:DAYLIGHT
TZOFFSETFROM:+0100
TZOFFSETTO:+0200
TZNAME:CEST
DTSTART:20200329T010000
END:DAYLIGHT
BEGIN:STANDARD
TZOFFSETFROM:+0200
TZOFFSETTO:+0100
TZNAME:CET
DTSTART:20201025T010000
END:STANDARD
END:VTIMEZONE
BEGIN:VEVENT
DTSTART;VALUE=DATE:20190908
DTEND;VALUE=DATE:20190909
DTSTAMP:20260422T210853
CREATED:20190324T011303Z
LAST-MODIFIED:20190518T201732Z
UID:1594-1567900800-1567987199@svenskahundklubben.se
SUMMARY:BAS-Utbildning 8 Sep
DESCRIPTION:
URL:https://svenskahundklubben.se/event/bas-utbildning-6/
LOCATION:Eskilstuna-Torshälla\, Birka\, Torshälla\, 644 36\, Sverige
CATEGORIES:Utbildningar-kurser
ORGANIZER;CN="UBK":MAILTO:ubk.ordf@svenskahundklubben.se
END:VEVENT
END:VCALENDAR